BEGIN:VCALENDAR
VERSION:2.0
PRODID:-//Contrary Art Center - ECPv6.15.20//NONSGML v1.0//EN
CALSCALE:GREGORIAN
METHOD:PUBLISH
X-WR-CALNAME:Contrary Art Center
X-ORIGINAL-URL:https://contraryart.com
X-WR-CALDESC:Events for Contrary Art Center
REFRESH-INTERVAL;VALUE=DURATION:PT1H
X-Robots-Tag:noindex
X-PUBLISHED-TTL:PT1H
BEGIN:VTIMEZONE
TZID:America/Los_Angeles
BEGIN:DAYLIGHT
TZOFFSETFROM:-0800
TZOFFSETTO:-0700
TZNAME:PDT
DTSTART:20200308T100000
END:DAYLIGHT
BEGIN:STANDARD
TZOFFSETFROM:-0700
TZOFFSETTO:-0800
TZNAME:PST
DTSTART:20201101T090000
END:STANDARD
BEGIN:DAYLIGHT
TZOFFSETFROM:-0800
TZOFFSETTO:-0700
TZNAME:PDT
DTSTART:20210314T100000
END:DAYLIGHT
BEGIN:STANDARD
TZOFFSETFROM:-0700
TZOFFSETTO:-0800
TZNAME:PST
DTSTART:20211107T090000
END:STANDARD
BEGIN:DAYLIGHT
TZOFFSETFROM:-0800
TZOFFSETTO:-0700
TZNAME:PDT
DTSTART:20220313T100000
END:DAYLIGHT
BEGIN:STANDARD
TZOFFSETFROM:-0700
TZOFFSETTO:-0800
TZNAME:PST
DTSTART:20221106T090000
END:STANDARD
END:VTIMEZONE
BEGIN:VEVENT
DTSTART;TZID=America/Los_Angeles:20210327T100000
DTEND;TZID=America/Los_Angeles:20210327T104000
DTSTAMP:20260424T073256
CREATED:20210119T215536Z
LAST-MODIFIED:20210308T164813Z
UID:2239-1616839200-1616841600@contraryart.com
SUMMARY:Contrary Art Club Meeting
DESCRIPTION:  \nContrary Art Club Meeting\n  \nLive Art Demonstration by talented artists. \nPlease join us for this Free virtual meeting the last Saturday of each month for art talks\, demonstrations\, critiques\, art exhibits\, and more. Event details will be emailed to you after signup. Please contact us if you have any questions! Thank you. \nSign up at the  Contrary Art Club!
URL:https://contraryart.com/event/contrary-art-club-meeting/
LOCATION:Zoom\, CA\, United States
CATEGORIES:Contrary Art Club Events
ATTACH;FMTTYPE=image/jpeg:https://contraryart.com/wp-content/uploads/2020/08/CONTRARY-ART-CLUB-advertisment-1.jpg
ORGANIZER;CN="Mary Vasquez":MAILTO:contraryartcenter@gmail.com
END:VEVENT
END:VCALENDAR